BEGIN:VCALENDAR
VERSION:2.0
PRODID:-//Fundecor - ECPv6.15.18//NONSGML v1.0//EN
CALSCALE:GREGORIAN
METHOD:PUBLISH
X-WR-CALNAME:Fundecor
X-ORIGINAL-URL:https://fundecor.es
X-WR-CALDESC:Eventos para Fundecor
REFRESH-INTERVAL;VALUE=DURATION:PT1H
X-Robots-Tag:noindex
X-PUBLISHED-TTL:PT1H
BEGIN:VTIMEZONE
TZID:Europe/Madrid
BEGIN:DAYLIGHT
TZOFFSETFROM:+0100
TZOFFSETTO:+0200
TZNAME:CEST
DTSTART:20230326T010000
END:DAYLIGHT
BEGIN:STANDARD
TZOFFSETFROM:+0200
TZOFFSETTO:+0100
TZNAME:CET
DTSTART:20231029T010000
END:STANDARD
BEGIN:DAYLIGHT
TZOFFSETFROM:+0100
TZOFFSETTO:+0200
TZNAME:CEST
DTSTART:20240331T010000
END:DAYLIGHT
BEGIN:STANDARD
TZOFFSETFROM:+0200
TZOFFSETTO:+0100
TZNAME:CET
DTSTART:20241027T010000
END:STANDARD
BEGIN:DAYLIGHT
TZOFFSETFROM:+0100
TZOFFSETTO:+0200
TZNAME:CEST
DTSTART:20250330T010000
END:DAYLIGHT
BEGIN:STANDARD
TZOFFSETFROM:+0200
TZOFFSETTO:+0100
TZNAME:CET
DTSTART:20251026T010000
END:STANDARD
END:VTIMEZONE
BEGIN:VEVENT
DTSTART;TZID=Europe/Madrid:20240510T100000
DTEND;TZID=Europe/Madrid:20240510T120000
DTSTAMP:20260424T162045
CREATED:20240422T064830Z
LAST-MODIFIED:20240510T100224Z
UID:20743-1715335200-1715342400@fundecor.es
SUMMARY:Espacio de encuentro: "Mujeres referentes\, retos de futuro sobre emprendimiento y gestión"
DESCRIPTION:Objetivo \n  \nEn esta jornada se reflexionará sobre los conocimientos\, competencias y actitudes que comparten las mujeres con puestos de dirección y que permiten alcanzar con éxito la función directiva\, desgranando la naturaleza de esos talentos\, imprescindibles para alcanzar ese desarrollo profesional. Con un enfoque práctico y experiencial\,  se abordará el valor del liderazgo femenino como motor de cambio y transformación. \n  \nPonentes \n  \n– María Dolores Redel Macías\nPuesto: Directora de Prevención de la Universidad de Córdoba \n  \n– María Piña \nPuesto: Presidenta de la Asociación Mujer y Poder \n  \n– Inmaculada Gómez Ordóñez\nPuesto: Técnica en desarrollo del talento del grupo WOMEN EMPOWERMENT en Carrier España. \n  \nModera: Silvia Medina Quintana\, Directora de Igualdad de la Universidad de Córdoba
URL:https://fundecor.es/evento/espacio-de-encuentro-mujeres-referentes/
LOCATION:Salón de Actos Edificio Vial Norte UCO\, Calle Doña Berenguela s/n\, Córdoba\, Córdoba\, 14006\, España
CATEGORIES:Univergem
ATTACH;FMTTYPE=image/jpeg:https://fundecor.es/wp-content/uploads/2024/04/Univergem.-mujeres-referentes-retos-de-futuro-sobre-emprendimiento-y-gestion-1.jpg
END:VEVENT
END:VCALENDAR