BEGIN:VCALENDAR
VERSION:2.0
PRODID:-//Fundecor - ECPv6.15.18//NONSGML v1.0//EN
CALSCALE:GREGORIAN
METHOD:PUBLISH
X-WR-CALNAME:Fundecor
X-ORIGINAL-URL:https://fundecor.es
X-WR-CALDESC:Eventos para Fundecor
REFRESH-INTERVAL;VALUE=DURATION:PT1H
X-Robots-Tag:noindex
X-PUBLISHED-TTL:PT1H
BEGIN:VTIMEZONE
TZID:Europe/Madrid
BEGIN:DAYLIGHT
TZOFFSETFROM:+0100
TZOFFSETTO:+0200
TZNAME:CEST
DTSTART:20240331T010000
END:DAYLIGHT
BEGIN:STANDARD
TZOFFSETFROM:+0200
TZOFFSETTO:+0100
TZNAME:CET
DTSTART:20241027T010000
END:STANDARD
BEGIN:DAYLIGHT
TZOFFSETFROM:+0100
TZOFFSETTO:+0200
TZNAME:CEST
DTSTART:20250330T010000
END:DAYLIGHT
BEGIN:STANDARD
TZOFFSETFROM:+0200
TZOFFSETTO:+0100
TZNAME:CET
DTSTART:20251026T010000
END:STANDARD
BEGIN:DAYLIGHT
TZOFFSETFROM:+0100
TZOFFSETTO:+0200
TZNAME:CEST
DTSTART:20260329T010000
END:DAYLIGHT
BEGIN:STANDARD
TZOFFSETFROM:+0200
TZOFFSETTO:+0100
TZNAME:CET
DTSTART:20261025T010000
END:STANDARD
END:VTIMEZONE
BEGIN:VEVENT
DTSTART;TZID=Europe/Madrid:20251017T093000
DTEND;TZID=Europe/Madrid:20251017T140000
DTSTAMP:20260422T161045
CREATED:20251006T065109Z
LAST-MODIFIED:20251009T073321Z
UID:24892-1760693400-1760709600@fundecor.es
SUMMARY:IX Jornada de Prácticas y Empleabilidad
DESCRIPTION:« Todos los Eventos \n\nCon la participación de:\nLOGO Escribano Mechinical And Engineiring\nLOGO INTHESK\nLOGO_SILBON\nLOGO SUPRAMAR\nLOGO_THE_CLUB\nEl Día de Córdoba
URL:https://fundecor.es/evento/ix-jornada-de-practicas-y-empleabilidad-sesion2/
LOCATION:Aula Magna – Facultad de Filosofia y Letras\, Calle del Cardenal Salazar\, Córdoba\, Córdoba\, 14004\, España
CATEGORIES:Empleabilidad
ATTACH;FMTTYPE=image/jpeg:https://fundecor.es/wp-content/uploads/2025/10/IX-Jornada-de-Practicas-y-Empleabilidad_historia.jpg
END:VEVENT
END:VCALENDAR