BEGIN:VCALENDAR
VERSION:2.0
PRODID:-//Fundecor - ECPv6.15.18//NONSGML v1.0//EN
CALSCALE:GREGORIAN
METHOD:PUBLISH
X-WR-CALNAME:Fundecor
X-ORIGINAL-URL:https://fundecor.es
X-WR-CALDESC:Eventos para Fundecor
REFRESH-INTERVAL;VALUE=DURATION:PT1H
X-Robots-Tag:noindex
X-PUBLISHED-TTL:PT1H
BEGIN:VTIMEZONE
TZID:Europe/Madrid
BEGIN:DAYLIGHT
TZOFFSETFROM:+0100
TZOFFSETTO:+0200
TZNAME:CEST
DTSTART:20240331T010000
END:DAYLIGHT
BEGIN:STANDARD
TZOFFSETFROM:+0200
TZOFFSETTO:+0100
TZNAME:CET
DTSTART:20241027T010000
END:STANDARD
BEGIN:DAYLIGHT
TZOFFSETFROM:+0100
TZOFFSETTO:+0200
TZNAME:CEST
DTSTART:20250330T010000
END:DAYLIGHT
BEGIN:STANDARD
TZOFFSETFROM:+0200
TZOFFSETTO:+0100
TZNAME:CET
DTSTART:20251026T010000
END:STANDARD
BEGIN:DAYLIGHT
TZOFFSETFROM:+0100
TZOFFSETTO:+0200
TZNAME:CEST
DTSTART:20260329T010000
END:DAYLIGHT
BEGIN:STANDARD
TZOFFSETFROM:+0200
TZOFFSETTO:+0100
TZNAME:CET
DTSTART:20261025T010000
END:STANDARD
END:VTIMEZONE
BEGIN:VEVENT
DTSTART;TZID=Europe/Madrid:20250721T090000
DTEND;TZID=Europe/Madrid:20250724T140000
DTSTAMP:20260422T125410
CREATED:20250528T091301Z
LAST-MODIFIED:20250528T092152Z
UID:24238-1753088400-1753365600@fundecor.es
SUMMARY:Campus Innovaction COVAP 2025
DESCRIPTION:
URL:https://fundecor.es/evento/campus-innovaction-covap-2025/
LOCATION:Pozoblanco (Cordoba)
CATEGORIES:Empleabilidad,Emprendimiento,Formación
ATTACH;FMTTYPE=image/jpeg:https://fundecor.es/wp-content/uploads/2024/05/CampusInnovactionCOVAP-2025.jpg
END:VEVENT
BEGIN:VEVENT
DTSTART;TZID=Europe/Madrid:20250723T120000
DTEND;TZID=Europe/Madrid:20250723T130000
DTSTAMP:20260422T125410
CREATED:20250715T113548Z
LAST-MODIFIED:20250715T113548Z
UID:24481-1753272000-1753275600@fundecor.es
SUMMARY:Taller de Empleabilidad "Consejos para buscar empleo en verano"
DESCRIPTION:Modalidad: OnlineFecha: 23 de Julio de 2025Duración: 12:00 a 13:00 h. (1 hora)Dirigido a: Estudiantes\, recién titulados y profesionales en búsqueda de empleo. \nFinancia: Diputación de Córdoba \n  \nMás información e inscripciones AQUÍ. \n  \nObjetivo del Taller: \nEl objetivo de este taller es proporcionar a los participantes estrategias efectivas para buscar empleo durante la temporada de verano\, un período que\, aunque suele ser menos competitivo en ciertos sectores\, puede ofrecer oportunidades únicas. A través de este taller\, los participantes aprenderán cómo adaptar su búsqueda de empleo a las características del verano\, identificar industrias con mayor demanda y aprovechar al máximo los recursos disponibles durante esta época.
URL:https://fundecor.es/evento/taller-de-empleabilidad-consejos-para-buscar-empleo-en-verano/
LOCATION:Online
CATEGORIES:Empleabilidad
ATTACH;FMTTYPE=image/jpeg:https://fundecor.es/wp-content/uploads/2025/07/taller8_canvasv2.jpg
END:VEVENT
END:VCALENDAR