BEGIN:VCALENDAR
VERSION:2.0
PRODID:-//Fundecor - ECPv6.15.18//NONSGML v1.0//EN
CALSCALE:GREGORIAN
METHOD:PUBLISH
X-WR-CALNAME:Fundecor
X-ORIGINAL-URL:https://fundecor.es
X-WR-CALDESC:Eventos para Fundecor
REFRESH-INTERVAL;VALUE=DURATION:PT1H
X-Robots-Tag:noindex
X-PUBLISHED-TTL:PT1H
BEGIN:VTIMEZONE
TZID:Europe/Madrid
BEGIN:DAYLIGHT
TZOFFSETFROM:+0100
TZOFFSETTO:+0200
TZNAME:CEST
DTSTART:20240331T010000
END:DAYLIGHT
BEGIN:STANDARD
TZOFFSETFROM:+0200
TZOFFSETTO:+0100
TZNAME:CET
DTSTART:20241027T010000
END:STANDARD
BEGIN:DAYLIGHT
TZOFFSETFROM:+0100
TZOFFSETTO:+0200
TZNAME:CEST
DTSTART:20250330T010000
END:DAYLIGHT
BEGIN:STANDARD
TZOFFSETFROM:+0200
TZOFFSETTO:+0100
TZNAME:CET
DTSTART:20251026T010000
END:STANDARD
BEGIN:DAYLIGHT
TZOFFSETFROM:+0100
TZOFFSETTO:+0200
TZNAME:CEST
DTSTART:20260329T010000
END:DAYLIGHT
BEGIN:STANDARD
TZOFFSETFROM:+0200
TZOFFSETTO:+0100
TZNAME:CET
DTSTART:20261025T010000
END:STANDARD
END:VTIMEZONE
BEGIN:VEVENT
DTSTART;TZID=Europe/Madrid:20250514T120000
DTEND;TZID=Europe/Madrid:20250514T130000
DTSTAMP:20260422T075341
CREATED:20250425T090041Z
LAST-MODIFIED:20250429T064557Z
UID:24028-1747224000-1747227600@fundecor.es
SUMMARY:Taller de Empleabilidad "Aplicaciones y plataformas para buscar empleo"
DESCRIPTION:Modalidad: OnlineFecha: 30 de Abril de 2025Duración: 12:00 a 13:00 h. (1 hora)Dirigido a: Estudiantes\, recién titulados y profesionales en búsqueda de empleo. \nFinancia: Diputación de Córdoba \n  \nMás información e inscripciones AQUÍ. \n  \nObjetivo del Taller: \nEl objetivo de este taller es enseñar a los participantes cómo utilizar de manera efectiva las diversas aplicaciones y plataformas disponibles para la búsqueda de empleo. A través de una introducción a las principales herramientas digitales\, los participantes aprenderán a optimizar su búsqueda\, a crear perfiles atractivos y a aprovechar al máximo las funcionalidades de estas plataformas para aumentar sus oportunidades laborales.
URL:https://fundecor.es/evento/taller-de-empleabilidad-aplicaciones-y-plataformas-para-buscar-empleo/
LOCATION:Online
CATEGORIES:Empleabilidad
ATTACH;FMTTYPE=image/jpeg:https://fundecor.es/wp-content/uploads/2025/04/taller_6_apps-empleo-1.jpg
END:VEVENT
END:VCALENDAR