BEGIN:VCALENDAR
VERSION:2.0
PRODID:-//Fundecor - ECPv6.15.18//NONSGML v1.0//EN
CALSCALE:GREGORIAN
METHOD:PUBLISH
X-ORIGINAL-URL:https://fundecor.es
X-WR-CALDESC:Eventos para Fundecor
REFRESH-INTERVAL;VALUE=DURATION:PT1H
X-Robots-Tag:noindex
X-PUBLISHED-TTL:PT1H
BEGIN:VTIMEZONE
TZID:Europe/Madrid
BEGIN:DAYLIGHT
TZOFFSETFROM:+0100
TZOFFSETTO:+0200
TZNAME:CEST
DTSTART:20240331T010000
END:DAYLIGHT
BEGIN:STANDARD
TZOFFSETFROM:+0200
TZOFFSETTO:+0100
TZNAME:CET
DTSTART:20241027T010000
END:STANDARD
BEGIN:DAYLIGHT
TZOFFSETFROM:+0100
TZOFFSETTO:+0200
TZNAME:CEST
DTSTART:20250330T010000
END:DAYLIGHT
BEGIN:STANDARD
TZOFFSETFROM:+0200
TZOFFSETTO:+0100
TZNAME:CET
DTSTART:20251026T010000
END:STANDARD
BEGIN:DAYLIGHT
TZOFFSETFROM:+0100
TZOFFSETTO:+0200
TZNAME:CEST
DTSTART:20260329T010000
END:DAYLIGHT
BEGIN:STANDARD
TZOFFSETFROM:+0200
TZOFFSETTO:+0100
TZNAME:CET
DTSTART:20261025T010000
END:STANDARD
END:VTIMEZONE
BEGIN:VEVENT
DTSTART;TZID=Europe/Madrid:20250731T130000
DTEND;TZID=Europe/Madrid:20250922T235900
DTSTAMP:20260422T124240
CREATED:20250731T111325Z
LAST-MODIFIED:20250731T111425Z
UID:24572-1753966800-1758585540@fundecor.es
SUMMARY:Ayudas para la inclusión social y promoción académica del alumnado de las Palmeras en la Universidad de Córdoba
DESCRIPTION:La Fundación Universitaria para el Desarrollo de la provincia de Córdoba\, la Universidad de Córdoba y la Fundación la Caixa\, en el ámbito de su responsabilidad social\, asumen entre sus objetivos la puesta en marcha de acciones que contribuyan a superar las circunstancias de riesgo y vulnerabilidad social que sufren algunas personas y que suponen un serio obstáculo para su acceso a la institución de Educación Superior. \n \nToda la información e inscripciones AQUÍ.
URL:https://fundecor.es/evento/ayudas-para-la-inclusion-social-y-promocion-academica-del-alumnado-de-las-palmeras-en-la-universidad-de-cordoba/
CATEGORIES:Empleabilidad
ATTACH;FMTTYPE=image/jpeg:https://fundecor.es/wp-content/uploads/2023/11/Palmeras_2024.jpg
END:VEVENT
BEGIN:VEVENT
DTSTART;TZID=Europe/Madrid:20250903T120000
DTEND;TZID=Europe/Madrid:20250903T130000
DTSTAMP:20260422T124240
CREATED:20250723T110832Z
LAST-MODIFIED:20250723T110832Z
UID:24508-1756900800-1756904400@fundecor.es
SUMMARY:Taller de Empleabilidad "IA para mejorar las oportunidades laborales"
DESCRIPTION:Modalidad: OnlineFecha: 3 de Septiembre de 2025Duración: 12:00 a 13:00 h. (1 hora)Dirigido a: Estudiantes\, recién titulados y profesionales en búsqueda de empleo. \nFinancia: Diputación de Córdoba \n  \nMás información e inscripciones AQUÍ. \n  \nObjetivo del Taller: \nEl objetivo de este taller es enseñar a los participantes cómo la inteligencia artificial (IA) puede ser utilizada para mejorar sus oportunidades laborales. A través de este taller\, los participantes aprenderán a usar herramientas de IA para optimizar su búsqueda de empleo\, mejorar su perfil profesional y potenciar su desarrollo de habilidades en un mercado laboral cada vez más influenciado por la tecnología.
URL:https://fundecor.es/evento/taller-de-empleabilidad-ia-para-mejorar-las-oportunidades-laborales/
LOCATION:Online
CATEGORIES:Empleabilidad
ATTACH;FMTTYPE=image/jpeg:https://fundecor.es/wp-content/uploads/2025/07/taller_10_IA.jpg
END:VEVENT
BEGIN:VEVENT
DTSTART;TZID=Europe/Madrid:20250910T120000
DTEND;TZID=Europe/Madrid:20250910T130000
DTSTAMP:20260422T124240
CREATED:20250904T112540Z
LAST-MODIFIED:20250904T113216Z
UID:24628-1757505600-1757509200@fundecor.es
SUMMARY:Taller de Empleabilidad "Oportunidades de emprendimiento. Lánzate a emprender."
DESCRIPTION:Modalidad: OnlineFecha: 10 de Septiembre de 2025Duración: 12:00 a 13:00 h. (1 hora)Dirigido a: Estudiantes\, recién titulados y profesionales en búsqueda de empleo. \nFinancia: Diputación de Córdoba \n  \nMás información e inscripciones AQUÍ. \n   \n   \nObjetivo del Taller: \n  \nEl objetivo del taller sobre «Oportunidades en Emprendimiento» es proporcionar a los participantes las herramientas y conocimientos necesarios para identificar y aprovechar oportunidades en el mundo empresarial\, fomentando la creatividad\, la innovación y el desarrollo de proyectos sostenibles y rentables. \n     \nContenido: \n1. Presentación de todos los programas y servicios para fomentar el emprendimiento en la fundación. \n2. Formación: Cómo aprovechar las redes del ecosistema de emprendimiento existente en la provincia de Córdoba. \n3. Casos de éxito: Ejemplos de proyectos exitosos apoyados por FUNDECOR\, destacando lecciones aprendidas y estrategias clave. \n   \nEste taller pretende proporcionar a los participantes un entendimiento profundo sobre cómo identificar y aprovechar oportunidades de negocio en la provincia de Córdoba. A través de la presentación de los recursos y programas de apoyo que FUNDECOR ofrece\, el taller busca dar a conocer las diferentes vías de asesoramiento que favorezcan el desarrollo de nuevos proyectos empresariales que no solo sean rentables económicamente\, sino que también contribuyan positivamente a la comunidad. Además\, se pretende ofrecer herramientas prácticas para la gestión efectiva de proyectos\, el acceso a fuentes de financiación y la creación de redes de apoyo con mentores\, inversores y otros emprendedores\, fomentando así un ecosistema de emprendimiento sólido y colaborativo.
URL:https://fundecor.es/evento/taller-de-empleabilidad-oportunidades-de-emprendimiento-lanzate-a-emprender-2/
LOCATION:Online
CATEGORIES:Empleabilidad
ATTACH;FMTTYPE=image/jpeg:https://fundecor.es/wp-content/uploads/2025/09/taller5_lanzate_a_emprender-1024x1024-1.jpg
END:VEVENT
BEGIN:VEVENT
DTSTART;TZID=Europe/Madrid:20250915T120000
DTEND;TZID=Europe/Madrid:20250915T130000
DTSTAMP:20260422T124240
CREATED:20250801T094214Z
LAST-MODIFIED:20250801T094414Z
UID:24576-1757937600-1757941200@fundecor.es
SUMMARY:¿Conoces todas las oportunidades que FUNDECOR te ofrece?
DESCRIPTION:En estas sesiones informativas online te contaremos en qué consisten nuestros principales servicios de apoyo a tu desarrollo académico y profesional.\nDurante la sesión te explicaremos:\n\n\nLos diferentes programas de prácticas extracurriculares y remuneradas que gestionamos.\nCómo acceder a ofertas activas empleo.\nServicios de orientación laboral individualizada.\nOportunidades de formación.\nDudas frecuentes y consejos prácticos para aprovechar al máximo tu etapa universitaria con nosotros.\n\n\nEstas sesiones son gratuitas y están dirigidas a estudiantes de todos los grados y másteres de la UCO.\n\n¡Inscríbete y descubre cómo podemos ayudarte a impulsar tu carrera!\n \n  \n\n\n\n\nINSCRíBETE AQUí\n\n\n\n\n 
URL:https://fundecor.es/evento/presentacion-servicios-fundecor/
LOCATION:Online
CATEGORIES:Empleabilidad,Emprendimiento,Formación
ATTACH;FMTTYPE=image/png:https://fundecor.es/wp-content/uploads/2025/08/Servicios-Fundecor.png
END:VEVENT
BEGIN:VEVENT
DTSTART;TZID=Europe/Madrid:20250924T120000
DTEND;TZID=Europe/Madrid:20250924T130000
DTSTAMP:20260422T124240
CREATED:20250911T074140Z
LAST-MODIFIED:20250911T080039Z
UID:24669-1758715200-1758718800@fundecor.es
SUMMARY:Taller de Empleabilidad "Entrena tu entrevista de trabajo"
DESCRIPTION:Modalidad: OnlineFecha: 24 de Septiembre de 2025Duración: 12:00 a 13:00 h. (1 hora)Dirigido a: Estudiantes\, recién titulados y profesionales en búsqueda de empleo. \nFinancia: Diputación de Córdoba \n  \nMás información e inscripciones AQUÍ. \n  \n  \nObjetivo del Taller: \n  \n\n\nEl objetivo de este taller es preparar a los participantes para enfrentar entrevistas de trabajo con confianza y éxito. A través de una formación teórica\, los participantes aprenderán sobre los tipos de entrevistas\, las preguntas más comunes\, las mejores estrategias para responderlas y cómo proyectar una imagen profesional ante los reclutadores. El taller busca dotar a los asistentes de las herramientas necesarias para causar una impresión positiva y aumentar sus posibilidades de éxito en el proceso de selección. \n\n\n\n\n\n\n\n  \nContenido: \n1. Introducción a la entrevista de trabajo.\n2. Estructura común de una entrevista de trabajo.\n3. Técnicas para responder preguntas difíciles.\n4. Cómo resaltar tus fortalezas y manejar tus debilidades.\n5. El lenguaje corporal y la comunicación no verbal.\n6. Preguntas para hacerle al entrevistador.\n7. Errores comunes en entrevistas y cómo evitarlos.\n8. Conclusión y próximos pasos. \n  \n  \nEste taller proporcionará a los participantes el conocimiento teórico necesario para abordar cualquier tipo de entrevista de trabajo con seguridad y eficacia\, ayudándoles a estar mejor preparados y a maximizar sus oportunidades de éxito.
URL:https://fundecor.es/evento/taller-de-empleabilidad-entrena-tu-entrevista-de-trabajo/
LOCATION:Online
CATEGORIES:Empleabilidad
ATTACH;FMTTYPE=image/jpeg:https://fundecor.es/wp-content/uploads/2025/09/taller4_claves.jpg
END:VEVENT
BEGIN:VEVENT
DTSTART;TZID=Europe/Madrid:20250924T160000
DTEND;TZID=Europe/Madrid:20250924T200000
DTSTAMP:20260422T124240
CREATED:20250725T075225Z
LAST-MODIFIED:20250925T071421Z
UID:24529-1758729600-1758744000@fundecor.es
SUMMARY:Encuentro sobre prácticas y empleo en Educación Social
DESCRIPTION:« Todos los Eventos \n\nCon la participación de:\nLOGO Escribano Mechinical And Engineiring\nLOGO INTHESK\nLOGO_SILBON\nLOGO SUPRAMAR\nLOGO_THE_CLUB\nEl Día de Córdoba
URL:https://fundecor.es/evento/fcep-2025/
LOCATION:Aula de Usos Múltiples 3 de la FCEP
CATEGORIES:Empleabilidad
ATTACH;FMTTYPE=image/jpeg:https://fundecor.es/wp-content/uploads/2025/07/Jornadas-Facultad-Ciencias-de-la-Educacion-20251.jpg
END:VEVENT
END:VCALENDAR