BEGIN:VCALENDAR
VERSION:2.0
PRODID:-//Fundecor - ECPv6.15.18//NONSGML v1.0//EN
CALSCALE:GREGORIAN
METHOD:PUBLISH
X-WR-CALNAME:Fundecor
X-ORIGINAL-URL:https://fundecor.es
X-WR-CALDESC:Eventos para Fundecor
REFRESH-INTERVAL;VALUE=DURATION:PT1H
X-Robots-Tag:noindex
X-PUBLISHED-TTL:PT1H
BEGIN:VTIMEZONE
TZID:Europe/Madrid
BEGIN:DAYLIGHT
TZOFFSETFROM:+0100
TZOFFSETTO:+0200
TZNAME:CEST
DTSTART:20240331T010000
END:DAYLIGHT
BEGIN:STANDARD
TZOFFSETFROM:+0200
TZOFFSETTO:+0100
TZNAME:CET
DTSTART:20241027T010000
END:STANDARD
BEGIN:DAYLIGHT
TZOFFSETFROM:+0100
TZOFFSETTO:+0200
TZNAME:CEST
DTSTART:20250330T010000
END:DAYLIGHT
BEGIN:STANDARD
TZOFFSETFROM:+0200
TZOFFSETTO:+0100
TZNAME:CET
DTSTART:20251026T010000
END:STANDARD
BEGIN:DAYLIGHT
TZOFFSETFROM:+0100
TZOFFSETTO:+0200
TZNAME:CEST
DTSTART:20260329T010000
END:DAYLIGHT
BEGIN:STANDARD
TZOFFSETFROM:+0200
TZOFFSETTO:+0100
TZNAME:CET
DTSTART:20261025T010000
END:STANDARD
END:VTIMEZONE
BEGIN:VEVENT
DTSTART;TZID=Europe/Madrid:20250304T103000
DTEND;TZID=Europe/Madrid:20250304T123000
DTSTAMP:20260422T015624
CREATED:20241106T141228Z
LAST-MODIFIED:20250305T074528Z
UID:22756-1741084200-1741091400@fundecor.es
SUMMARY:Jornada de Empleo Público en el sector socio-educativo y en psicología
DESCRIPTION:« Todos los Eventos \n\nCon la participación de:\nLOGO Escribano Mechinical And Engineiring\nLOGO INTHESK\nLOGO_SILBON\nLOGO SUPRAMAR\nLOGO_THE_CLUB\nEl Día de Córdoba
URL:https://fundecor.es/evento/jornada-empleo-publico-2025/
LOCATION:Salón de Actos de la Facultad de Ciencias de la Educación y Psicología
CATEGORIES:Empleabilidad
ATTACH;FMTTYPE=image/jpeg:https://fundecor.es/wp-content/uploads/2025/02/FCE-2024-J3.jpg
END:VEVENT
BEGIN:VEVENT
DTSTART;TZID=Europe/Madrid:20250312T120000
DTEND;TZID=Europe/Madrid:20250312T130000
DTSTAMP:20260422T015624
CREATED:20250306T110830Z
LAST-MODIFIED:20250306T115944Z
UID:23734-1741780800-1741784400@fundecor.es
SUMMARY:Taller de Empleabilidad: ¿Cómo redactar un currículum? Esquema\, ejemplos y tips
DESCRIPTION:Modalidad: Online \nFecha: 12 de Marzo de 2025 \nDuración: 12:00 a 13:00 h. (1 hora)\nDirigido a: Estudiantes\, recién titulados y profesionales en búsqueda de empleo. \nGestionado por: FUNDECOR \n  \n  \n\n\n\n\nINSCRíBETE AQUí\n\n\n\n\n  \n  \n  \n\n\nObjetivo del Taller: \nEl objetivo de este taller es proporcionar a los participantes las herramientas necesarias para redactar un currículum efectivo\, que resalte sus fortalezas y logros\, y que sea adaptado a las necesidades del puesto al que se postulan. A través de ejemplos prácticos y consejos clave\, los participantes aprenderán a estructurar un currículum profesional que capte la atención de reclutadores y potenciales empleadores. \n\nContenido: \n\n\n1. Introducción al currículum: \n\n¿Qué es un currículum y por qué es importante?\nLa función de un currículum en el proceso de búsqueda de empleo.\n\n  \n2. Estructura básica de un currículum: \nDatos personales: \n\nQué incluir y cómo presentarlos.\nPerfil profesional: Cómo escribir un resumen atractivo y relevante.\nExperiencia laboral: Cómo detallar tu historial profesional y logros.\nFormación académica: Qué estudios incluir y cómo destacarlos.\nHabilidades y competencias: Resalta tus habilidades técnicas y blandas.\n\n  \n3. Consejos prácticos para mejorar tu currículum: \n\nCómo personalizar tu CV según el puesto.\nEl uso de verbos de acción para destacar logros.\nLa importancia de la claridad y la concisión en el contenido.\nErrores comunes a evitar.\n\n  \n4. Consejos para el diseño y formato: \n\nDiseño limpio y profesional.\nAdaptación a sistemas de seguimiento de candidatos (ATS).\n\n  \nEste taller busca equipar a los participantes con conocimientos y habilidades para redactar un currículum atractivo\, efectivo y adaptado a las necesidades del mercado laboral actual.
URL:https://fundecor.es/evento/taller-de-empleabilidad-como-redactar-un-curriculum-esquema-ejemplos-y-tips/
LOCATION:Online
CATEGORIES:Empleabilidad
ATTACH;FMTTYPE=image/jpeg:https://fundecor.es/wp-content/uploads/2025/03/taller1_mercado_laboral.jpg
END:VEVENT
BEGIN:VEVENT
DTSTART;TZID=Europe/Madrid:20250326T120000
DTEND;TZID=Europe/Madrid:20250326T130000
DTSTAMP:20260422T015624
CREATED:20250306T111810Z
LAST-MODIFIED:20250320T111825Z
UID:23740-1742990400-1742994000@fundecor.es
SUMMARY:Taller de Empleabilidad: Mercado laboral 2025. ¿Qué profesiones son las más demandadas?
DESCRIPTION:Modalidad: Online \nFecha: 26 de Marzo de 2025 \nDuración: 12:00 a 13:00 h. (1 hora)\nDirigido a: Estudiantes\, recién titulados y profesionales en búsqueda de empleo. \nGestionado por: FUNDECOR \n  \n  \n\n\n\n\nINSCRíBETE AQUí\n\n\n\n\n  \n  \n  \n\n\nObjetivo del Taller: \nEl objetivo de este taller es proporcionar a los participantes una visión clara y actualizada de las tendencias del mercado laboral para 2025\, destacando las profesiones que se prevé serán más demandadas. A través de un análisis de las transformaciones tecnológicas\, económicas y sociales\, los participantes podrán identificar qué habilidades y competencias deben desarrollar para adaptarse a estos cambios y asegurar su empleabilidad en los próximos años. \n\nContenido: \n\n1. Introducción al mercado laboral de 2025: \n  \n2. Profesiones más demandadas: \n\nTecnología y digitalización: Especialistas en ciberseguridad\, desarrolladores de software\, expertos en inteligencia artificial\, análisis de datos\, y más.\nSostenibilidad y medio ambiente: Profesionales en energías renovables\, gestión ambiental\, y economía circular.\nSalud y bienestar: Médicos\, enfermeras\, especialistas en salud mental\, y profesiones relacionadas con la biotecnología.\nEducación y formación continua: Profesores y facilitadores especializados en aprendizaje digital\, formación en habilidades blandas\, y mentoría.\nMarketing y ventas digitales: Expertos en marketing digital\, analistas de redes sociales\, y ventas online.\n\n  \n3. Habilidades clave para el futuro: \n\nHabilidades técnicas\nHabilidades blandas\nPensamiento crítico y creatividad\n\n  \n4. Cómo prepararse para las profesiones del futuro \n  \nEste taller busca equipar a los participantes con la información y las herramientas necesarias para identificar las áreas con mayor proyección y adaptar sus habilidades al futuro del mercado laboral. A través de este análisis\, los participantes podrán tomar decisiones más informadas sobre su desarrollo profesional y las oportunidades que deben aprovechar.
URL:https://fundecor.es/evento/taller-de-empleabilidad-mercado-laboral-2025-que-profesiones-son-las-mas-demandadas/
CATEGORIES:Empleabilidad
ATTACH;FMTTYPE=image/jpeg:https://fundecor.es/wp-content/uploads/2025/03/taller2_mercado_laboral.jpg
END:VEVENT
END:VCALENDAR